BEGIN:VCALENDAR
VERSION:2.0
PRODID:-//The York Events//york.eventstream.tech//
CALSCALE:GREGORIAN
METHOD:PUBLISH
BEGIN:VEVENT
SUMMARY:Kids’ Writing Workshop @ Books & Bevs
DTSTART:20260429T150000Z
DTEND:20260429T163000Z
DTSTAMP:20260420T094720Z
UID:kids-writing-workshop-books-bevs-2026-04-29@york.eventstream.tech
DESCRIPTION:[Other] Eventbrite - Dan Peacock presents Kids’ Writing Work
 shop @ Books & Bevs - Wednesday\, 29 April 2026 at Books & Bevs\, Acomb\, 
 England. Find event and ticket information....\n\nMore info: https://york.
 eventstream.tech/events/kids-writing-workshop-books-bevs-2026-04-29/
LOCATION:Books & Bevs\, 89 Front Street\, Acomb\, YO24 3BU\, Acomb\, YO24 
 3BU\, The York\, UK
ORGANIZER:CN=eventbrite_scraper_york
URL:https://york.eventstream.tech/events/kids-writing-workshop-books-bevs-
 2026-04-29/
END:VEVENT
END:VCALENDAR
